BEGIN:VCALENDAR
VERSION:2.0
PRODID:-//Bishop&#039;s Waltham in Bloom - ECPv6.15.20//NONSGML v1.0//EN
CALSCALE:GREGORIAN
METHOD:PUBLISH
X-WR-CALNAME:Bishop&#039;s Waltham in Bloom
X-ORIGINAL-URL:https://bishopswalthaminbloom.org.uk
X-WR-CALDESC:Events for Bishop&#039;s Waltham in Bloom
REFRESH-INTERVAL;VALUE=DURATION:PT1H
X-Robots-Tag:noindex
X-PUBLISHED-TTL:PT1H
BEGIN:VTIMEZONE
TZID:Europe/London
BEGIN:DAYLIGHT
TZOFFSETFROM:+0000
TZOFFSETTO:+0100
TZNAME:BST
DTSTART:20210328T010000
END:DAYLIGHT
BEGIN:STANDARD
TZOFFSETFROM:+0100
TZOFFSETTO:+0000
TZNAME:GMT
DTSTART:20211031T010000
END:STANDARD
BEGIN:DAYLIGHT
TZOFFSETFROM:+0000
TZOFFSETTO:+0100
TZNAME:BST
DTSTART:20220327T010000
END:DAYLIGHT
BEGIN:STANDARD
TZOFFSETFROM:+0100
TZOFFSETTO:+0000
TZNAME:GMT
DTSTART:20221030T010000
END:STANDARD
BEGIN:DAYLIGHT
TZOFFSETFROM:+0000
TZOFFSETTO:+0100
TZNAME:BST
DTSTART:20230326T010000
END:DAYLIGHT
BEGIN:STANDARD
TZOFFSETFROM:+0100
TZOFFSETTO:+0000
TZNAME:GMT
DTSTART:20231029T010000
END:STANDARD
BEGIN:DAYLIGHT
TZOFFSETFROM:+0000
TZOFFSETTO:+0100
TZNAME:BST
DTSTART:20240331T010000
END:DAYLIGHT
BEGIN:STANDARD
TZOFFSETFROM:+0100
TZOFFSETTO:+0000
TZNAME:GMT
DTSTART:20241027T010000
END:STANDARD
END:VTIMEZONE
BEGIN:VEVENT
DTSTART;TZID=Europe/London:20230127T193000
DTEND;TZID=Europe/London:20230127T223000
DTSTAMP:20260421T055813
CREATED:20221120T194143Z
LAST-MODIFIED:20221120T194143Z
UID:2814-1674847800-1674858600@bishopswalthaminbloom.org.uk
SUMMARY:Annual Quiz Night
DESCRIPTION:Our Quiz Night is returning after Covid.\nOur quizmaster travels from Bognor Regis and his quizzes are unique. \n\n8 different rounds of questions\, including a musical round and one set to work on through the evening.\nA Ploughman’s Supper is included in the price.\nTables are set out for teams of 6\, but teams of 4\, couples and individuals are all welcome.\nYou can book your tickets now through the website
URL:https://bishopswalthaminbloom.org.uk/event/annual-quiz-night/
LOCATION:Jubilee Hall\, Bishop’s Waltham
END:VEVENT
BEGIN:VEVENT
DTSTART;TZID=Europe/London:20221201T180000
DTEND;TZID=Europe/London:20221201T200000
DTSTAMP:20260421T055813
CREATED:20221102T150540Z
LAST-MODIFIED:20221102T151156Z
UID:2790-1669917600-1669924800@bishopswalthaminbloom.org.uk
SUMMARY:Sizzling Sausages
DESCRIPTION:We will be serving our freshly barbecued sasuages at the Christmas Fair on the High Street on Thursday 1st December. They will be ready to eat as soon as the Fair is opened.\nWe source our sausages from Grovers Butchers. They are served\, with or without onions\, in a small bread roll. We have a variety of sauces available too.
URL:https://bishopswalthaminbloom.org.uk/event/sizzling-sausages/
END:VEVENT
BEGIN:VEVENT
DTSTART;TZID=Europe/London:20221114T193000
DTEND;TZID=Europe/London:20221114T210000
DTSTAMP:20260421T055813
CREATED:20221101T221543Z
LAST-MODIFIED:20221102T150928Z
UID:2781-1668454200-1668459600@bishopswalthaminbloom.org.uk
SUMMARY:Annual General Meeting
DESCRIPTION:We will be holding our AGM at the Jubilee Hall on Monday 14th November starting at 7.30.\nCome along to find out more about our work througout the year.\nRefreshments will be served after the formal business of the evening.
URL:https://bishopswalthaminbloom.org.uk/event/annual-general-meeting/
LOCATION:Jubilee Hall\, Bishop’s Waltham
END:VEVENT
END:VCALENDAR